BEGIN:VCALENDAR
VERSION:2.0
PRODID:-//お茶の水クリスチャン・センター - ECPv5.9.1//NONSGML v1.0//EN
CALSCALE:GREGORIAN
METHOD:PUBLISH
X-WR-CALNAME:お茶の水クリスチャン・センター
X-ORIGINAL-URL:https://ochanomizu.cc
X-WR-CALDESC:お茶の水クリスチャン・センター のイベント
BEGIN:VTIMEZONE
TZID:Asia/Tokyo
BEGIN:STANDARD
TZOFFSETFROM:+0900
TZOFFSETTO:+0900
TZNAME:JST
DTSTART:20230101T000000
END:STANDARD
END:VTIMEZONE
BEGIN:VEVENT
DTSTART;TZID=Asia/Tokyo:20230918T140000
DTEND;TZID=Asia/Tokyo:20230918T160000
DTSTAMP:20260421T175619
CREATED:20230904T074108Z
LAST-MODIFIED:20230904T074108Z
UID:30534-1695045600-1695052800@ochanomizu.cc
SUMMARY:LYREファンミ―ティング ～リラ好き集まれ♪～
DESCRIPTION:
URL:https://ochanomizu.cc/event/lyre%e3%83%95%e3%82%a1%e3%83%b3%e3%83%9f%e2%80%95%e3%83%86%e3%82%a3%e3%83%b3%e3%82%b0-%ef%bd%9e%e3%83%aa%e3%83%a9%e5%a5%bd%e3%81%8d%e9%9b%86%e3%81%be%e3%82%8c%e2%99%aa%ef%bd%9e/
LOCATION:OCC 8階 チャペル
CATEGORIES:他団体集会
END:VEVENT
END:VCALENDAR