BEGIN:VCALENDAR
VERSION:2.0
PRODID:-//お茶の水クリスチャン・センター - ECPv5.9.1//NONSGML v1.0//EN
CALSCALE:GREGORIAN
METHOD:PUBLISH
X-WR-CALNAME:お茶の水クリスチャン・センター
X-ORIGINAL-URL:https://ochanomizu.cc
X-WR-CALDESC:お茶の水クリスチャン・センター のイベント
BEGIN:VTIMEZONE
TZID:Asia/Tokyo
BEGIN:STANDARD
TZOFFSETFROM:+0900
TZOFFSETTO:+0900
TZNAME:JST
DTSTART:20200101T000000
END:STANDARD
END:VTIMEZONE
BEGIN:VEVENT
DTSTART;TZID=Asia/Tokyo:20200718T133000
DTEND;TZID=Asia/Tokyo:20200718T160000
DTSTAMP:20260422T015738
CREATED:20200630T021841Z
LAST-MODIFIED:20200630T021841Z
UID:21068-1595079000-1595088000@ochanomizu.cc
SUMMARY:聖書と日本フォーラム関東支部
DESCRIPTION:
URL:https://ochanomizu.cc/event/%e8%81%96%e6%9b%b8%e3%81%a8%e6%97%a5%e6%9c%ac%e3%83%95%e3%82%a9%e3%83%bc%e3%83%a9%e3%83%a0%e9%96%a2%e6%9d%b1%e6%94%af%e9%83%a8/
LOCATION:OCC 415号室
END:VEVENT
END:VCALENDAR